Package: HuBMAPR Version: 1.0.7 Command: rm -rf HuBMAPR.buildbin-libdir && mkdir HuBMAPR.buildbin-libdir && /Users/biocbuild/BBS/utils/build-universal.sh HuBMAPR_1.0.7.tar.gz /Library/Frameworks/R.framework/Resources/bin/R HuBMAPR.buildbin-libdir StartedAt: 2025-02-04 13:09:43 -0500 (Tue, 04 Feb 2025) EndedAt: 2025-02-04 13:09:54 -0500 (Tue, 04 Feb 2025) EllapsedTime: 11.3 seconds RetCode: 0 Status: OK PackageFile: HuBMAPR_1.0.7.tgz PackageFileSize: 1.412 MiB