Package: HuBMAPR Version: 1.0.7 Command: /Library/Frameworks/R.framework/Resources/bin/R CMD build --keep-empty-dirs --no-resave-data HuBMAPR StartedAt: 2025-02-03 19:39:41 -0500 (Mon, 03 Feb 2025) EndedAt: 2025-02-03 19:40:30 -0500 (Mon, 03 Feb 2025) EllapsedTime: 49.3 seconds RetCode: 0 Status: OK PackageFile: HuBMAPR_1.0.7.tar.gz PackageFileSize: 1.362 MiB