Package: HybridExpress Version: 1.2.0 Command: /Library/Frameworks/R.framework/Resources/bin/R CMD check --install=check:HybridExpress.install-out.txt --library=/Library/Frameworks/R.framework/Resources/library --no-vignettes --timings HybridExpress_1.2.0.tar.gz StartedAt: 2025-02-04 22:42:46 -0500 (Tue, 04 Feb 2025) EndedAt: 2025-02-04 22:47:07 -0500 (Tue, 04 Feb 2025) EllapsedTime: 261.3 seconds RetCode: 0 Status: OK CheckDir: HybridExpress.Rcheck Warnings: 0