Package: HybridExpress Version: 1.2.0 Command: /home/biocbuild/bbs-3.20-bioc/R/bin/R CMD build --keep-empty-dirs --no-resave-data --md5 HybridExpress StartedAt: 2025-02-03 17:50:26 -0500 (Mon, 03 Feb 2025) EndedAt: 2025-02-03 17:51:33 -0500 (Mon, 03 Feb 2025) EllapsedTime: 67.1 seconds RetCode: 0 Status: OK PackageFile: HybridExpress_1.2.0.tar.gz PackageFileSize: 3.229 MiB