Package: HybridExpress Version: 1.2.0 Command: /home/biocbuild/bbs-3.20-bioc/R/bin/R CMD INSTALL HybridExpress StartedAt: 2025-02-03 15:35:22 -0500 (Mon, 03 Feb 2025) EndedAt: 2025-02-03 15:35:46 -0500 (Mon, 03 Feb 2025) EllapsedTime: 24.2 seconds RetCode: 0 Status: OK