Package: HybridExpress
Version: 1.1.0
Command: rm -rf HybridExpress.buildbin-libdir && mkdir HybridExpress.buildbin-libdir && C:\Users\biocbuild\bbs-3.20-bioc\R\bin\R.exe CMD INSTALL --build --library=HybridExpress.buildbin-libdir HybridExpress_1.1.0.tar.gz
StartedAt: 2024-07-16 06:19:07 -0400 (Tue, 16 Jul 2024)
EndedAt: 2024-07-16 06:19:43 -0400 (Tue, 16 Jul 2024)
EllapsedTime: 36.4 seconds
RetCode: 0
Status: OK
PackageFile: HybridExpress_1.1.0.zip
PackageFileSize: 2.438 <A href="http://en.wikipedia.org/wiki/MiB" target="_blank">MiB</A>