Package: HybridExpress
Version: 1.1.0
Command: C:\Users\biocbuild\bbs-3.20-bioc\R\bin\R.exe CMD INSTALL HybridExpress
StartedAt: 2024-07-15 15:41:10 -0400 (Mon, 15 Jul 2024)
EndedAt: 2024-07-15 15:41:36 -0400 (Mon, 15 Jul 2024)
EllapsedTime: 25.8 seconds
RetCode: 0
Status: OK