Package: HybridExpress Version: 1.2.0 Command: rm -rf HybridExpress.buildbin-libdir && mkdir HybridExpress.buildbin-libdir && F:\biocbuild\bbs-3.20-bioc\R\bin\R.exe CMD INSTALL --build --library=HybridExpress.buildbin-libdir HybridExpress_1.2.0.tar.gz StartedAt: 2025-02-04 08:42:51 -0500 (Tue, 04 Feb 2025) EndedAt: 2025-02-04 08:43:47 -0500 (Tue, 04 Feb 2025) EllapsedTime: 55.8 seconds RetCode: 0 Status: OK PackageFile: HybridExpress_1.2.0.zip PackageFileSize: 2.439 MiB