Package: HybridExpress Version: 1.2.0 Command: F:\biocbuild\bbs-3.20-bioc\R\bin\R.exe CMD INSTALL HybridExpress StartedAt: 2025-02-03 16:24:37 -0500 (Mon, 03 Feb 2025) EndedAt: 2025-02-03 16:25:22 -0500 (Mon, 03 Feb 2025) EllapsedTime: 45.8 seconds RetCode: 0 Status: OK