Package: IFAA Version: 1.8.0 Command: /Library/Frameworks/R.framework/Resources/bin/R CMD INSTALL IFAA StartedAt: 2025-02-03 16:16:26 -0500 (Mon, 03 Feb 2025) EndedAt: 2025-02-03 16:17:23 -0500 (Mon, 03 Feb 2025) EllapsedTime: 57.1 seconds RetCode: 0 Status: OK