Package: IFAA Version: 1.8.0 Command: /home/biocbuild/bbs-3.20-bioc/R/bin/R CMD build --keep-empty-dirs --no-resave-data --md5 IFAA StartedAt: 2025-02-03 17:51:38 -0500 (Mon, 03 Feb 2025) EndedAt: 2025-02-03 17:53:43 -0500 (Mon, 03 Feb 2025) EllapsedTime: 125.2 seconds RetCode: 0 Status: OK PackageFile: IFAA_1.8.0.tar.gz PackageFileSize: 299.3 KiB