Package: IFAA Version: 1.8.0 Command: /home/biocbuild/bbs-3.20-bioc/R/bin/R CMD INSTALL IFAA StartedAt: 2025-02-03 15:49:57 -0500 (Mon, 03 Feb 2025) EndedAt: 2025-02-03 15:50:24 -0500 (Mon, 03 Feb 2025) EllapsedTime: 27.3 seconds RetCode: 0 Status: OK