Package: IFAA Version: 1.8.0 Command: chmod a+r IFAA -R && F:\biocbuild\bbs-3.20-bioc\R\bin\R.exe CMD build --keep-empty-dirs --no-resave-data IFAA StartedAt: 2025-02-03 19:49:37 -0500 (Mon, 03 Feb 2025) EndedAt: 2025-02-03 19:52:08 -0500 (Mon, 03 Feb 2025) EllapsedTime: 150.8 seconds RetCode: 0 Status: OK PackageFile: IFAA_1.8.0.tar.gz PackageFileSize: 299.2 KiB