Package: IFAA Version: 1.8.0 Command: F:\biocbuild\bbs-3.20-bioc\R\bin\R.exe CMD check --no-multiarch --install=check:IFAA.install-out.txt --library=F:\biocbuild\bbs-3.20-bioc\R\library --no-vignettes --timings IFAA_1.8.0.tar.gz StartedAt: 2025-02-04 02:50:29 -0500 (Tue, 04 Feb 2025) EndedAt: 2025-02-04 02:59:29 -0500 (Tue, 04 Feb 2025) EllapsedTime: 540.2 seconds RetCode: 0 Status: OK CheckDir: IFAA.Rcheck Warnings: 0