Package: IFAA Version: 1.8.0 Command: /home/biocbuild/R/R/bin/R CMD check --install=check:IFAA.install-out.txt --library=/home/biocbuild/R/R/site-library --no-vignettes --timings IFAA_1.8.0.tar.gz StartedAt: 2025-02-04 07:59:44 -0000 (Tue, 04 Feb 2025) EndedAt: 2025-02-04 08:08:26 -0000 (Tue, 04 Feb 2025) EllapsedTime: 521.5 seconds RetCode: 0 Status: OK CheckDir: IFAA.Rcheck Warnings: 0