Package: IHW Version: 1.34.0 Command: chmod a+r IHW -R && F:\biocbuild\bbs-3.20-bioc\R\bin\R.exe CMD build --keep-empty-dirs --no-resave-data IHW StartedAt: 2025-01-30 19:35:23 -0500 (Thu, 30 Jan 2025) EndedAt: 2025-01-30 19:39:03 -0500 (Thu, 30 Jan 2025) EllapsedTime: 220.1 seconds RetCode: 0 Status: OK PackageFile: IHW_1.34.0.tar.gz PackageFileSize: 1.439 MiB