Package: IHW Version: 1.34.0 Command: F:\biocbuild\bbs-3.20-bioc\R\bin\R.exe CMD check --no-multiarch --install=check:IHW.install-out.txt --library=F:\biocbuild\bbs-3.20-bioc\R\library --no-vignettes --timings IHW_1.34.0.tar.gz StartedAt: 2025-01-31 03:02:42 -0500 (Fri, 31 Jan 2025) EndedAt: 2025-01-31 03:04:14 -0500 (Fri, 31 Jan 2025) EllapsedTime: 91.8 seconds RetCode: 0 Status: OK CheckDir: IHW.Rcheck Warnings: 0