Package: ILoReg Version: 1.16.0 Command: /Library/Frameworks/R.framework/Resources/bin/R CMD build --keep-empty-dirs --no-resave-data ILoReg StartedAt: 2025-01-31 01:43:13 -0500 (Fri, 31 Jan 2025) EndedAt: 2025-01-31 01:46:25 -0500 (Fri, 31 Jan 2025) EllapsedTime: 191.6 seconds RetCode: 0 Status: OK PackageFile: ILoReg_1.16.0.tar.gz PackageFileSize: 2.763 MiB