Package: ILoReg Version: 1.16.0 Command: /Library/Frameworks/R.framework/Resources/bin/R CMD INSTALL ILoReg StartedAt: 2025-02-03 18:19:16 -0500 (Mon, 03 Feb 2025) EndedAt: 2025-02-03 18:19:51 -0500 (Mon, 03 Feb 2025) EllapsedTime: 35.8 seconds RetCode: 0 Status: OK