Package: ILoReg Version: 1.16.0 Command: rm -rf ILoReg.buildbin-libdir && mkdir ILoReg.buildbin-libdir && /Users/biocbuild/BBS/utils/build-universal.sh ILoReg_1.16.0.tar.gz /Library/Frameworks/R.framework/Resources/bin/R ILoReg.buildbin-libdir StartedAt: 2024-11-20 04:32:17 -0500 (Wed, 20 Nov 2024) EndedAt: 2024-11-20 04:33:05 -0500 (Wed, 20 Nov 2024) EllapsedTime: 48.1 seconds RetCode: 0 Status: OK PackageFile: ILoReg_1.16.0.tgz PackageFileSize: 3.17 MiB