Package: ILoReg Version: 1.16.0 Command: rm -rf ILoReg.buildbin-libdir && mkdir ILoReg.buildbin-libdir && /Users/biocbuild/BBS/utils/build-universal.sh ILoReg_1.16.0.tar.gz /Library/Frameworks/R.framework/Resources/bin/R ILoReg.buildbin-libdir StartedAt: 2025-02-04 13:10:49 -0500 (Tue, 04 Feb 2025) EndedAt: 2025-02-04 13:12:24 -0500 (Tue, 04 Feb 2025) EllapsedTime: 95.7 seconds RetCode: 0 Status: OK PackageFile: ILoReg_1.16.0.tgz PackageFileSize: 3.159 MiB