Package: ILoReg Version: 1.16.0 Command: /Library/Frameworks/R.framework/Resources/bin/R CMD INSTALL ILoReg StartedAt: 2025-01-30 16:47:43 -0500 (Thu, 30 Jan 2025) EndedAt: 2025-01-30 16:48:47 -0500 (Thu, 30 Jan 2025) EllapsedTime: 64.4 seconds RetCode: 0 Status: OK