Package: ILoReg Version: 1.16.0 Command: /home/biocbuild/bbs-3.20-bioc/R/bin/R CMD build --keep-empty-dirs --no-resave-data --md5 ILoReg StartedAt: 2025-02-03 17:52:14 -0500 (Mon, 03 Feb 2025) EndedAt: 2025-02-03 17:54:30 -0500 (Mon, 03 Feb 2025) EllapsedTime: 136.2 seconds RetCode: 0 Status: OK PackageFile: ILoReg_1.16.0.tar.gz PackageFileSize: 2.669 MiB