Package: ILoReg Version: 1.16.0 Command: F:\biocbuild\bbs-3.20-bioc\R\bin\R.exe CMD check --no-multiarch --install=check:ILoReg.install-out.txt --library=F:\biocbuild\bbs-3.20-bioc\R\library --no-vignettes --timings ILoReg_1.16.0.tar.gz StartedAt: 2025-01-31 03:03:25 -0500 (Fri, 31 Jan 2025) EndedAt: 2025-01-31 03:09:45 -0500 (Fri, 31 Jan 2025) EllapsedTime: 379.8 seconds RetCode: 0 Status: WARNINGS CheckDir: ILoReg.Rcheck Warnings: 2