Package: ILoReg Version: 1.16.0 Command: /home/biocbuild/R/R/bin/R CMD build --keep-empty-dirs --no-resave-data ILoReg StartedAt: 2025-01-31 00:22:55 -0000 (Fri, 31 Jan 2025) EndedAt: 2025-01-31 00:25:34 -0000 (Fri, 31 Jan 2025) EllapsedTime: 159.2 seconds RetCode: 1 Status: ERROR PackageFile: None PackageFileSize: NA