Package: ILoReg Version: 1.16.0 Command: /home/biocbuild/R/R/bin/R CMD INSTALL ILoReg StartedAt: 2025-01-30 21:07:55 -0000 (Thu, 30 Jan 2025) EndedAt: 2025-01-30 21:08:32 -0000 (Thu, 30 Jan 2025) EllapsedTime: 36.5 seconds RetCode: 0 Status: OK