Package: INDEED Version: 2.20.0 Command: /Library/Frameworks/R.framework/Resources/bin/R CMD build --keep-empty-dirs --no-resave-data INDEED StartedAt: 2025-01-31 01:49:16 -0500 (Fri, 31 Jan 2025) EndedAt: 2025-01-31 01:49:26 -0500 (Fri, 31 Jan 2025) EllapsedTime: 10.3 seconds RetCode: 0 Status: OK PackageFile: INDEED_2.20.0.tar.gz PackageFileSize: 1.857 MiB