Package: INDEED Version: 2.20.0 Command: /Library/Frameworks/R.framework/Resources/bin/R CMD check --install=check:INDEED.install-out.txt --library=/Library/Frameworks/R.framework/Resources/library --no-vignettes --timings INDEED_2.20.0.tar.gz StartedAt: 2025-01-31 22:34:17 -0500 (Fri, 31 Jan 2025) EndedAt: 2025-01-31 22:35:15 -0500 (Fri, 31 Jan 2025) EllapsedTime: 58.3 seconds RetCode: 0 Status: OK CheckDir: INDEED.Rcheck Warnings: 0