Package: INDEED Version: 2.20.0 Command: /Library/Frameworks/R.framework/Resources/bin/R CMD INSTALL INDEED StartedAt: 2025-01-30 17:06:16 -0500 (Thu, 30 Jan 2025) EndedAt: 2025-01-30 17:06:22 -0500 (Thu, 30 Jan 2025) EllapsedTime: 6.4 seconds RetCode: 0 Status: OK