Package: INDEED Version: 2.20.0 Command: /Library/Frameworks/R.framework/Resources/bin/R CMD check --install=check:INDEED.install-out.txt --library=/Library/Frameworks/R.framework/Resources/library --no-vignettes --timings INDEED_2.20.0.tar.gz StartedAt: 2025-01-31 05:19:59 -0500 (Fri, 31 Jan 2025) EndedAt: 2025-01-31 05:22:07 -0500 (Fri, 31 Jan 2025) EllapsedTime: 127.2 seconds RetCode: 0 Status: OK CheckDir: INDEED.Rcheck Warnings: 0