Package: INDEED Version: 2.20.0 Command: /home/biocbuild/bbs-3.20-bioc/R/bin/R CMD INSTALL INDEED StartedAt: 2025-01-30 15:39:46 -0500 (Thu, 30 Jan 2025) EndedAt: 2025-01-30 15:39:52 -0500 (Thu, 30 Jan 2025) EllapsedTime: 6.6 seconds RetCode: 0 Status: OK