Package: INDEED Version: 2.20.0 Command: rm -rf INDEED.buildbin-libdir && mkdir INDEED.buildbin-libdir && F:\biocbuild\bbs-3.20-bioc\R\bin\R.exe CMD INSTALL --build --library=INDEED.buildbin-libdir INDEED_2.20.0.tar.gz StartedAt: 2025-01-31 08:52:22 -0500 (Fri, 31 Jan 2025) EndedAt: 2025-01-31 08:52:38 -0500 (Fri, 31 Jan 2025) EllapsedTime: 16.0 seconds RetCode: 0 Status: OK PackageFile: INDEED_2.20.0.zip PackageFileSize: 783 KiB