Package: INDEED Version: 2.20.0 Command: chmod a+r INDEED -R && F:\biocbuild\bbs-3.20-bioc\R\bin\R.exe CMD build --keep-empty-dirs --no-resave-data INDEED StartedAt: 2025-01-30 19:37:23 -0500 (Thu, 30 Jan 2025) EndedAt: 2025-01-30 19:38:10 -0500 (Thu, 30 Jan 2025) EllapsedTime: 47.4 seconds RetCode: 0 Status: OK PackageFile: INDEED_2.20.0.tar.gz PackageFileSize: 1.857 MiB