Package: INDEED Version: 2.20.0 Command: F:\biocbuild\bbs-3.20-bioc\R\bin\R.exe CMD check --no-multiarch --install=check:INDEED.install-out.txt --library=F:\biocbuild\bbs-3.20-bioc\R\library --no-vignettes --timings INDEED_2.20.0.tar.gz StartedAt: 2025-01-31 03:05:00 -0500 (Fri, 31 Jan 2025) EndedAt: 2025-01-31 03:06:14 -0500 (Fri, 31 Jan 2025) EllapsedTime: 74.1 seconds RetCode: 0 Status: OK CheckDir: INDEED.Rcheck Warnings: 0