Package: INDEED Version: 2.20.0 Command: /home/biocbuild/R/R/bin/R CMD build --keep-empty-dirs --no-resave-data INDEED StartedAt: 2025-01-31 00:24:21 -0000 (Fri, 31 Jan 2025) EndedAt: 2025-01-31 00:24:31 -0000 (Fri, 31 Jan 2025) EllapsedTime: 10.0 seconds RetCode: 0 Status: OK PackageFile: INDEED_2.20.0.tar.gz PackageFileSize: 1.882 MiB