Package: INDEED Version: 2.20.0 Command: /home/biocbuild/R/R/bin/R CMD INSTALL INDEED StartedAt: 2025-01-30 20:47:19 -0000 (Thu, 30 Jan 2025) EndedAt: 2025-01-30 20:47:25 -0000 (Thu, 30 Jan 2025) EllapsedTime: 6.4 seconds RetCode: 0 Status: OK