Package: INPower Version: 1.42.0 Command: /Library/Frameworks/R.framework/Resources/bin/R CMD build --keep-empty-dirs --no-resave-data INPower StartedAt: 2025-02-04 01:54:59 -0500 (Tue, 04 Feb 2025) EndedAt: 2025-02-04 01:55:09 -0500 (Tue, 04 Feb 2025) EllapsedTime: 10.2 seconds RetCode: 0 Status: OK PackageFile: INPower_1.42.0.tar.gz PackageFileSize: 146.8 KiB