Package: INPower Version: 1.42.0 Command: /Library/Frameworks/R.framework/Resources/bin/R CMD INSTALL INPower StartedAt: 2025-02-03 15:16:23 -0500 (Mon, 03 Feb 2025) EndedAt: 2025-02-03 15:16:27 -0500 (Mon, 03 Feb 2025) EllapsedTime: 3.1 seconds RetCode: 0 Status: OK