Package: INPower Version: 1.42.0 Command: rm -rf INPower.buildbin-libdir && mkdir INPower.buildbin-libdir && /Users/biocbuild/BBS/utils/build-universal.sh INPower_1.42.0.tar.gz /Library/Frameworks/R.framework/Resources/bin/R INPower.buildbin-libdir StartedAt: 2024-11-20 04:32:30 -0500 (Wed, 20 Nov 2024) EndedAt: 2024-11-20 04:32:37 -0500 (Wed, 20 Nov 2024) EllapsedTime: 7.0 seconds RetCode: 0 Status: OK PackageFile: INPower_1.42.0.tgz PackageFileSize: 163.1 KiB