Package: INPower Version: 1.42.0 Command: /Library/Frameworks/R.framework/Resources/bin/R CMD INSTALL INPower StartedAt: 2024-11-19 15:05:39 -0500 (Tue, 19 Nov 2024) EndedAt: 2024-11-19 15:06:01 -0500 (Tue, 19 Nov 2024) EllapsedTime: 22.1 seconds RetCode: 0 Status: OK