Package: INPower Version: 1.42.0 Command: /Library/Frameworks/R.framework/Resources/bin/R CMD check --install=check:INPower.install-out.txt --library=/Library/Frameworks/R.framework/Resources/library --no-vignettes --timings INPower_1.42.0.tar.gz StartedAt: 2025-02-04 05:12:04 -0500 (Tue, 04 Feb 2025) EndedAt: 2025-02-04 05:12:39 -0500 (Tue, 04 Feb 2025) EllapsedTime: 35.4 seconds RetCode: 0 Status: OK CheckDir: INPower.Rcheck Warnings: 0