Package: INPower Version: 1.42.0 Command: rm -rf INPower.buildbin-libdir && mkdir INPower.buildbin-libdir && F:\biocbuild\bbs-3.20-bioc\R\bin\R.exe CMD INSTALL --build --library=INPower.buildbin-libdir INPower_1.42.0.tar.gz StartedAt: 2025-02-04 08:44:40 -0500 (Tue, 04 Feb 2025) EndedAt: 2025-02-04 08:44:47 -0500 (Tue, 04 Feb 2025) EllapsedTime: 6.8 seconds RetCode: 0 Status: OK PackageFile: INPower_1.42.0.zip PackageFileSize: 86.69 KiB