Package: INPower Version: 1.42.0 Command: chmod a+r INPower -R && F:\biocbuild\bbs-3.20-bioc\R\bin\R.exe CMD build --keep-empty-dirs --no-resave-data INPower StartedAt: 2025-02-03 19:53:37 -0500 (Mon, 03 Feb 2025) EndedAt: 2025-02-03 19:53:48 -0500 (Mon, 03 Feb 2025) EllapsedTime: 10.6 seconds RetCode: 0 Status: OK PackageFile: INPower_1.42.0.tar.gz PackageFileSize: 66.61 KiB