Package: INSPEcT Version: 1.36.0 Command: rm -rf INSPEcT.buildbin-libdir && mkdir INSPEcT.buildbin-libdir && /Users/biocbuild/BBS/utils/build-universal.sh INSPEcT_1.36.0.tar.gz /Library/Frameworks/R.framework/Resources/bin/R INSPEcT.buildbin-libdir StartedAt: 2025-02-01 15:22:22 -0500 (Sat, 01 Feb 2025) EndedAt: 2025-02-01 15:23:50 -0500 (Sat, 01 Feb 2025) EllapsedTime: 88.6 seconds RetCode: 0 Status: OK PackageFile: INSPEcT_1.36.0.tgz PackageFileSize: 59.52 MiB