Package: INSPEcT
Version: 1.36.0
Command: rm -rf INSPEcT.buildbin-libdir && mkdir INSPEcT.buildbin-libdir && /Users/biocbuild/BBS/utils/build-universal.sh INSPEcT_1.36.0.tar.gz /Library/Frameworks/R.framework/Resources/bin/R INSPEcT.buildbin-libdir
StartedAt: 2025-02-18 12:21:43 -0500 (Tue, 18 Feb 2025)
EndedAt: 2025-02-18 12:24:13 -0500 (Tue, 18 Feb 2025)
EllapsedTime: 149.4 seconds
RetCode: 0
Status: OK
PackageFile: INSPEcT_1.36.0.tgz
PackageFileSize: 8.725 <A href="http://en.wikipedia.org/wiki/MiB" target="_blank">MiB</A>