Package: INSPEcT
Version: 1.36.0
Command: /Library/Frameworks/R.framework/Resources/bin/R CMD build --keep-empty-dirs --no-resave-data INSPEcT
StartedAt: 2025-02-17 19:50:29 -0500 (Mon, 17 Feb 2025)
EndedAt: 2025-02-17 20:09:20 -0500 (Mon, 17 Feb 2025)
EllapsedTime: 1130.6 seconds
RetCode: 0
Status: OK
PackageFile: INSPEcT_1.36.0.tar.gz
PackageFileSize: 7.814 <A href="http://en.wikipedia.org/wiki/MiB" target="_blank">MiB</A>