Package: INSPEcT Version: 1.36.0 Command: /home/biocbuild/R/R/bin/R CMD check --install=check:INSPEcT.install-out.txt --library=/home/biocbuild/R/R/site-library --no-vignettes --timings INSPEcT_1.36.0.tar.gz StartedAt: 2025-02-04 08:03:21 -0000 (Tue, 04 Feb 2025) EndedAt: 2025-02-04 08:18:27 -0000 (Tue, 04 Feb 2025) EllapsedTime: 906.0 seconds RetCode: 0 Status: OK CheckDir: INSPEcT.Rcheck Warnings: 0