Package: INSPEcT Version: 1.36.0 Command: /home/biocbuild/R/R/bin/R CMD INSTALL INSPEcT StartedAt: 2025-02-03 20:54:32 -0000 (Mon, 03 Feb 2025) EndedAt: 2025-02-03 20:55:53 -0000 (Mon, 03 Feb 2025) EllapsedTime: 81.2 seconds RetCode: 0 Status: OK