Package: INTACT Version: 1.6.0 Command: /home/biocbuild/bbs-3.20-bioc/R/bin/R CMD INSTALL INTACT StartedAt: 2025-02-17 15:16:02 -0500 (Mon, 17 Feb 2025) EndedAt: 2025-02-17 15:16:06 -0500 (Mon, 17 Feb 2025) EllapsedTime: 4.3 seconds RetCode: 0 Status: OK