Package: INTACT
Version: 1.5.0
Command: chmod a+r INTACT -R && F:\biocbuild\bbs-3.20-bioc\R\bin\R.exe CMD build --keep-empty-dirs --no-resave-data INTACT
StartedAt: 2024-06-09 19:44:33 -0400 (Sun, 09 Jun 2024)
EndedAt: 2024-06-09 19:45:05 -0400 (Sun, 09 Jun 2024)
EllapsedTime: 31.8 seconds
RetCode: 0
Status: OK
PackageFile: INTACT_1.5.0.tar.gz
PackageFileSize: 2.43 <A href="http://en.wikipedia.org/wiki/MiB" target="_blank">MiB</A>